BEGIN:VCALENDAR
VERSION:2.0
PRODID:-//eventon.com NONSGML v1.0//EN
BEGIN:VEVENT
UID:69ecc6717235a
DTSTAMP:20260425T064937
DTSTART:20230311T033000Z
DTEND:20230311T075000Z
TZID:America/Los_Angeles
LOCATION:
SUMMARY:Stations of the Cross - 7:30 PM
DESCRIPTION: Stations of the Cross - 7:30 PM\nhttps://saintceciliacatholiccommunity.org/blog/events/stations-of-the-cross/
URL:https://saintceciliacatholiccommunity.org/blog/events/stations-of-the-cross/
END:VEVENT
END:VCALENDAR