BEGIN:VCALENDAR
VERSION:2.0
PRODID:-//eventon.com NONSGML v1.0//EN
BEGIN:VEVENT
UID:69e74c654366b
DTSTAMP:20260421T030733
DTSTART:20230401T023000Z
DTEND:20230401T065000Z
TZID:America/Los_Angeles
LOCATION:
SUMMARY:Stations of the Cross - 7:30 PM
DESCRIPTION: Stations of the Cross - 7:30 PM\nhttps://saintceciliacatholiccommunity.org/blog/events/stations-of-the-cross-730-pm-2/
URL:https://saintceciliacatholiccommunity.org/blog/events/stations-of-the-cross-730-pm-2/
END:VEVENT
END:VCALENDAR