BEGIN:VCALENDAR
VERSION:2.0
PRODID:-//eventon.com NONSGML v1.0//EN
BEGIN:VEVENT
UID:69e9997ea4905
DTSTAMP:20260422T210102
DTSTART:20230916T173000Z
DTEND:20230917T065000Z
TZID:America/Los_Angeles
LOCATION:
SUMMARY:Marquez Family Baptism - 10:30 AM
DESCRIPTION: Marquez Family Baptism - 10:30 AM\nhttps://saintceciliacatholiccommunity.org/blog/events/marquez-baptism/
URL:https://saintceciliacatholiccommunity.org/blog/events/marquez-baptism/
END:VEVENT
END:VCALENDAR