BEGIN:VCALENDAR
VERSION:2.0
PRODID:-//eventon.com NONSGML v1.0//EN
BEGIN:VEVENT
UID:69ecf2efb0308
DTSTAMP:20260425T095927
DTSTART:20231022T173000Z
DTEND:20231023T065000Z
TZID:America/Los_Angeles
LOCATION:
SUMMARY:Twenty-ninth Sunday in Ordinary Time – Sung Mass 10:30 AM
DESCRIPTION: Twenty-ninth Sunday in Ordinary Time – Sung Mass 10:30 AM\nhttps://saintceciliacatholiccommunity.org/blog/events/twenty-ninth-sunday-in-ordinary-time-sung-mass-1030-am/
URL:https://saintceciliacatholiccommunity.org/blog/events/twenty-ninth-sunday-in-ordinary-time-sung-mass-1030-am/
END:VEVENT
END:VCALENDAR