BEGIN:VCALENDAR
VERSION:2.0
PRODID:-//eventon.com NONSGML v1.0//EN
BEGIN:VEVENT
UID:69ecfe3774c5e
DTSTAMP:20260425T104735
DTSTART:20231126T203000Z
DTEND:20231127T075000Z
TZID:America/Los_Angeles
LOCATION:
SUMMARY:Solemnidad de Nuestro Señor Jesucristo\,  Rey del Universo - 12:30 PM
DESCRIPTION: Solemnidad de Nuestro Señor Jesucristo\,  Rey del Universo - 12:30 PM\nhttps://saintceciliacatholiccommunity.org/blog/events/solemnidad-de-nuestro-senor-jesucristo-rey-del-universo-1230-pm/
URL:https://saintceciliacatholiccommunity.org/blog/events/solemnidad-de-nuestro-senor-jesucristo-rey-del-universo-1230-pm/
END:VEVENT
END:VCALENDAR