BEGIN:VCALENDAR
VERSION:2.0
PRODID:-//eventon.com NONSGML v1.0//EN
BEGIN:VEVENT
UID:69e7b74f97ab6
DTSTAMP:20260421T104343
DTSTART:20231118T230000Z
DTEND:20231119T075000Z
TZID:America/Los_Angeles
LOCATION:
SUMMARY:Castellanos/Gallardo Family Baptism
DESCRIPTION: Castellanos/Gallardo Family Baptism\nhttps://saintceciliacatholiccommunity.org/blog/events/castellanos-gallardo-family-baptism/
URL:https://saintceciliacatholiccommunity.org/blog/events/castellanos-gallardo-family-baptism/
END:VEVENT
END:VCALENDAR