BEGIN:VCALENDAR
VERSION:2.0
PRODID:-//eventon.com NONSGML v1.0//EN
BEGIN:VEVENT
UID:69e77e565ab69
DTSTAMP:20260421T064038
DTSTART:20231224T203000Z
DTEND:20231225T075000Z
TZID:America/Los_Angeles
LOCATION:
SUMMARY:Cuarto Domingo de Adviento - La Santa Misa 12:30 PM
DESCRIPTION: Cuarto Domingo de Adviento - La Santa Misa 12:30 PM\nhttps://saintceciliacatholiccommunity.org/blog/events/cuarto-domingo-de-adviento-la-santa-misa-1230-pm/
URL:https://saintceciliacatholiccommunity.org/blog/events/cuarto-domingo-de-adviento-la-santa-misa-1230-pm/
END:VEVENT
END:VCALENDAR