BEGIN:VCALENDAR
VERSION:2.0
PRODID:-//eventon.com NONSGML v1.0//EN
BEGIN:VEVENT
UID:69ecc7137665c
DTSTAMP:20260425T065219
DTSTART:20231123T183000Z
DTEND:20231124T075000Z
TZID:America/Los_Angeles
LOCATION:
SUMMARY:Thanksgiving Day Low Mass - 10:30 AM
DESCRIPTION: Thanksgiving Day Low Mass - 10:30 AM\nhttps://saintceciliacatholiccommunity.org/blog/events/thanksgiving-day-low-mass-1030-am/
URL:https://saintceciliacatholiccommunity.org/blog/events/thanksgiving-day-low-mass-1030-am/
END:VEVENT
END:VCALENDAR