BEGIN:VCALENDAR
VERSION:2.0
PRODID:-//eventon.com NONSGML v1.0//EN
BEGIN:VEVENT
UID:69ecf16fc9544
DTSTAMP:20260425T095303
DTSTART:20240214T150000Z
DTEND:20240215T075000Z
TZID:America/Los_Angeles
LOCATION:
SUMMARY:Ash Wednesday - Sung Mass 7 PM
DESCRIPTION: Ash Wednesday - Sung Mass 7 PM\nhttps://saintceciliacatholiccommunity.org/blog/events/ash-wednesday-sung-mass-7-pm/
URL:https://saintceciliacatholiccommunity.org/blog/events/ash-wednesday-sung-mass-7-pm/
END:VEVENT
END:VCALENDAR