BEGIN:VCALENDAR
VERSION:2.0
PRODID:-//eventon.com NONSGML v1.0//EN
BEGIN:VEVENT
UID:69ecf0d1ea96b
DTSTAMP:20260425T095025
DTSTART:20240329T020000Z
DTEND:20240329T065000Z
TZID:America/Los_Angeles
LOCATION:
SUMMARY:Maundy Thursday Sung Mass - 7 PM
DESCRIPTION: Maundy Thursday Sung Mass - 7 PM\nhttps://saintceciliacatholiccommunity.org/blog/events/maundy-thursday-sung-mass-7-pm/
URL:https://saintceciliacatholiccommunity.org/blog/events/maundy-thursday-sung-mass-7-pm/
END:VEVENT
END:VCALENDAR