BEGIN:VCALENDAR
VERSION:2.0
PRODID:-//eventon.com NONSGML v1.0//EN
BEGIN:VEVENT
UID:69ecf13257623
DTSTAMP:20260425T095202
DTSTART:20240518T210000Z
DTEND:20240519T065000Z
TZID:America/Los_Angeles
LOCATION:
SUMMARY:Salas Baptism
DESCRIPTION: Salas Baptism\nhttps://saintceciliacatholiccommunity.org/blog/events/salas-baptism/
URL:https://saintceciliacatholiccommunity.org/blog/events/salas-baptism/
END:VEVENT
END:VCALENDAR