BEGIN:VCALENDAR
VERSION:2.0
PRODID:-//eventon.com NONSGML v1.0//EN
BEGIN:VEVENT
UID:69e8f0d6cc08d
DTSTAMP:20260422T090126
DTSTART:20240602T173000Z
DTEND:20240603T065000Z
TZID:America/Los_Angeles
LOCATION:
SUMMARY:Feast of Corpus Christi - Sung Mass 10:30 AM
DESCRIPTION: Feast of Corpus Christi - Sung Mass 10:30 AM\nhttps://saintceciliacatholiccommunity.org/blog/events/feast-of-corpus-christi-sung-mass-1030-am/
URL:https://saintceciliacatholiccommunity.org/blog/events/feast-of-corpus-christi-sung-mass-1030-am/
END:VEVENT
END:VCALENDAR