BEGIN:VCALENDAR
VERSION:2.0
PRODID:-//eventon.com NONSGML v1.0//EN
BEGIN:VEVENT
UID:69ebf4e4c7235
DTSTAMP:20260424T155532
DTSTART:20240629T203000Z
DTEND:20240630T065000Z
TZID:America/Los_Angeles
LOCATION:
SUMMARY:Thirteenth Sunday of Ordinary Time– Bilingual Sung Mass 10:30 AM
DESCRIPTION: Thirteenth Sunday of Ordinary Time– Bilingual Sung Mass 10:30 AM\nhttps://saintceciliacatholiccommunity.org/blog/events/thirteenth-sunday-of-easter-bilingual-sung-mass-1030-am/
URL:https://saintceciliacatholiccommunity.org/blog/events/thirteenth-sunday-of-easter-bilingual-sung-mass-1030-am/
END:VEVENT
END:VCALENDAR