BEGIN:VCALENDAR
VERSION:2.0
PRODID:-//eventon.com NONSGML v1.0//EN
BEGIN:VEVENT
UID:69ecf24d93d93
DTSTAMP:20260425T095645
DTSTART:20240707T200000Z
DTEND:20240708T065000Z
TZID:America/Los_Angeles
LOCATION:
SUMMARY:Fourteenth Sunday of Ordinary Time – Bilingual Sung Mass 10:30 AM
DESCRIPTION: Fourteenth Sunday of Ordinary Time – Bilingual Sung Mass 10:30 AM\nhttps://saintceciliacatholiccommunity.org/blog/events/fourteenth-sunday-of-ordinary-time-bilingual-sung-mass-1030-am/
URL:https://saintceciliacatholiccommunity.org/blog/events/fourteenth-sunday-of-ordinary-time-bilingual-sung-mass-1030-am/
END:VEVENT
END:VCALENDAR