BEGIN:VCALENDAR
VERSION:2.0
PRODID:-//eventon.com NONSGML v1.0//EN
BEGIN:VEVENT
UID:69e92c4ac9a21
DTSTAMP:20260422T131506
DTSTART:20241020T173000Z
DTEND:20241021T065000Z
TZID:America/Los_Angeles
LOCATION:
SUMMARY:Twenty-ninth Sunday in Ordinary Time
DESCRIPTION: Twenty-ninth Sunday in Ordinary Time\nhttps://saintceciliacatholiccommunity.org/blog/events/twenty-ninth-sunday-in-ordinary-time/
URL:https://saintceciliacatholiccommunity.org/blog/events/twenty-ninth-sunday-in-ordinary-time/
END:VEVENT
END:VCALENDAR