BEGIN:VCALENDAR
VERSION:2.0
PRODID:-//eventon.com NONSGML v1.0//EN
BEGIN:VEVENT
UID:69e845cee1a01
DTSTAMP:20260421T205142
DTSTART:20241208T183000Z
DTEND:20241209T075000Z
TZID:America/Los_Angeles
LOCATION:
SUMMARY:Second Sunday of Advent Sung Mass - 10:30 AM
DESCRIPTION: Second Sunday of Advent Sung Mass - 10:30 AM\nhttps://saintceciliacatholiccommunity.org/blog/events/second-sunday-of-advent-sung-mass-1030-am-2/
URL:https://saintceciliacatholiccommunity.org/blog/events/second-sunday-of-advent-sung-mass-1030-am-2/
END:VEVENT
END:VCALENDAR