BEGIN:VCALENDAR
VERSION:2.0
PRODID:-//eventon.com NONSGML v1.0//EN
BEGIN:VEVENT
UID:69ecf38e68c6d
DTSTAMP:20260425T100206
DTSTART:20241222T183000Z
DTEND:20241223T075000Z
TZID:America/Los_Angeles
LOCATION:
SUMMARY:Fourth Sunday of Advent Sung Mass - 10:30 AM
DESCRIPTION: Fourth Sunday of Advent Sung Mass - 10:30 AM\nhttps://saintceciliacatholiccommunity.org/blog/events/fourth-sunday-of-advent-sung-mass-1030-am-3/
URL:https://saintceciliacatholiccommunity.org/blog/events/fourth-sunday-of-advent-sung-mass-1030-am-3/
END:VEVENT
END:VCALENDAR