BEGIN:VCALENDAR
VERSION:2.0
PRODID:-//eventon.com NONSGML v1.0//EN
BEGIN:VEVENT
UID:69ea230f3bbe4
DTSTAMP:20260423T064759
DTSTART:20250306T030000Z
DTEND:20250306T075000Z
TZID:America/Los_Angeles
LOCATION:
SUMMARY:Ash Wednesday - 7 PM
DESCRIPTION: Ash Wednesday - 7 PM\nhttps://saintceciliacatholiccommunity.org/blog/events/ash-wednesday-2/
URL:https://saintceciliacatholiccommunity.org/blog/events/ash-wednesday-2/
END:VEVENT
END:VCALENDAR