BEGIN:VCALENDAR
VERSION:2.0
PRODID:-//eventon.com NONSGML v1.0//EN
BEGIN:VEVENT
UID:69e9fa61f3007
DTSTAMP:20260423T035425
DTSTART:20250415T191500Z
DTEND:20250416T065000Z
TZID:America/Los_Angeles
LOCATION:
SUMMARY:Tuesday Low Mass (12:15 PM)
DESCRIPTION: Tuesday Low Mass (12:15 PM)\nhttps://saintceciliacatholiccommunity.org/blog/events/tuesday-low-mass-1215-pm/
URL:https://saintceciliacatholiccommunity.org/blog/events/tuesday-low-mass-1215-pm/
END:VEVENT
END:VCALENDAR