BEGIN:VCALENDAR
VERSION:2.0
PRODID:-//eventon.com NONSGML v1.0//EN
BEGIN:VEVENT
UID:69e869e5c8c9b
DTSTAMP:20260421T232541
DTSTART:20260429T010000Z
DTEND:20260429T065000Z
TZID:America/Los_Angeles
LOCATION:
SUMMARY:Bible Study - 6 PM
DESCRIPTION: Bible Study - 6 PM\nhttps://saintceciliacatholiccommunity.org/blog/events/bible-study/var/ri-47.l-L1
URL:https://saintceciliacatholiccommunity.org/blog/events/bible-study/var/ri-47.l-L1
END:VEVENT
END:VCALENDAR