BEGIN:VCALENDAR
VERSION:2.0
PRODID:-//eventon.com NONSGML v1.0//EN
BEGIN:VEVENT
UID:69ecf363c410c
DTSTAMP:20260425T100123
DTSTART:20250831T173000Z
DTEND:20250901T065000Z
TZID:America/Los_Angeles
LOCATION:
SUMMARY:Twenty-second Sunday in Ordinary Time Sung Mass - 10:30 AM
DESCRIPTION: Preacher: David Justin Lynch\nhttps://saintceciliacatholiccommunity.org/blog/events/twenty-second-sunday-in-ordinary-time-sung-mass-1030-am-2/
URL:https://saintceciliacatholiccommunity.org/blog/events/twenty-second-sunday-in-ordinary-time-sung-mass-1030-am-2/
END:VEVENT
END:VCALENDAR