BEGIN:VCALENDAR
VERSION:2.0
PRODID:-//eventon.com NONSGML v1.0//EN
BEGIN:VEVENT
UID:69ea38febdd3e
DTSTAMP:20260423T082134
DTSTART:20251012T190000Z
DTEND:20251013T065000Z
TZID:America/Los_Angeles
LOCATION:
SUMMARY:Twenty-eighth Sunday in Ordinary Time Sung Mass - 10:30 AM
DESCRIPTION: Preacher: Chaplain Viana Chambers\nhttps://saintceciliacatholiccommunity.org/blog/events/twenty-eighth-sunday-in-ordinary-time-sung-mass-1030-am-2/
URL:https://saintceciliacatholiccommunity.org/blog/events/twenty-eighth-sunday-in-ordinary-time-sung-mass-1030-am-2/
END:VEVENT
END:VCALENDAR