BEGIN:VCALENDAR
VERSION:2.0
PRODID:-//eventon.com NONSGML v1.0//EN
BEGIN:VEVENT
UID:69ed3455ac28d
DTSTAMP:20260425T143829
DTSTART:20251019T173000Z
DTEND:20251020T065000Z
TZID:America/Los_Angeles
LOCATION:
SUMMARY:Twenty-ninth Sunday in Ordinary Time Sung Mass - 10:30 AM
DESCRIPTION: Preacher: Deacon Sharon Kay Talley\nhttps://saintceciliacatholiccommunity.org/blog/events/twenty-ninth-sunday-in-ordinary-time-sung-mass-1030-am-2/
URL:https://saintceciliacatholiccommunity.org/blog/events/twenty-ninth-sunday-in-ordinary-time-sung-mass-1030-am-2/
END:VEVENT
END:VCALENDAR