BEGIN:VCALENDAR
VERSION:2.0
PRODID:-//eventon.com NONSGML v1.0//EN
BEGIN:VEVENT
UID:69ecf329ee0c7
DTSTAMP:20260425T100025
DTSTART:20251123T183000Z
DTEND:20251124T075000Z
TZID:America/Los_Angeles
LOCATION:
SUMMARY:Solemnity of Our Lord Jesus Christ\,  King of the Universe Sung Mass - 10:30 AM
DESCRIPTION: Preacher: Rev. Adam D. McCoy OHC\nhttps://saintceciliacatholiccommunity.org/blog/events/solemnity-of-our-lord-jesus-christ-king-of-the-universe-sung-mass-1030-am/
URL:https://saintceciliacatholiccommunity.org/blog/events/solemnity-of-our-lord-jesus-christ-king-of-the-universe-sung-mass-1030-am/
END:VEVENT
END:VCALENDAR