BEGIN:VCALENDAR
VERSION:2.0
PRODID:-//eventon.com NONSGML v1.0//EN
BEGIN:VEVENT
UID:69e9fcd84f37a
DTSTAMP:20260423T040456
DTSTART:20251221T210000Z
DTEND:20251222T105000Z
TZID:Pacific/Midway
LOCATION:
SUMMARY:Fourth Sunday in Advent - Sung Mass 10:30 AM
DESCRIPTION: Preacher: Chaplain Viana Chambers\nhttps://saintceciliacatholiccommunity.org/blog/events/fourth-sunday-in-advent-sung-mass-1030-am/
URL:https://saintceciliacatholiccommunity.org/blog/events/fourth-sunday-in-advent-sung-mass-1030-am/
END:VEVENT
END:VCALENDAR