BEGIN:VCALENDAR
VERSION:2.0
PRODID:-//eventon.com NONSGML v1.0//EN
BEGIN:VEVENT
UID:69e9ff127ad05
DTSTAMP:20260423T041426
DTSTART:20260104T183000Z
DTEND:20260105T075000Z
TZID:America/Los_Angeles
LOCATION:
SUMMARY:Solemnity of the Epiphany - Sung Mass 10:30 AM
DESCRIPTION: Preacher: Deacon Sharon Kay Talley\nhttps://saintceciliacatholiccommunity.org/blog/events/solemnity-of-the-epiphany-sung-mass-1030-am/
URL:https://saintceciliacatholiccommunity.org/blog/events/solemnity-of-the-epiphany-sung-mass-1030-am/
END:VEVENT
END:VCALENDAR