BEGIN:VCALENDAR
VERSION:2.0
PRODID:-//eventon.com NONSGML v1.0//EN
BEGIN:VEVENT
UID:69e9be496a2c4
DTSTAMP:20260422T233801
DTSTART:20260111T183000Z
DTEND:20260112T075000Z
TZID:America/Los_Angeles
LOCATION:
SUMMARY:Baptism of the Lord - Sung Mass 10:30 AM
DESCRIPTION: Preacher: Chaplain Viana Chambers\nhttps://saintceciliacatholiccommunity.org/blog/events/baptism-of-the-lord-sung-mass-1030-am/
URL:https://saintceciliacatholiccommunity.org/blog/events/baptism-of-the-lord-sung-mass-1030-am/
END:VEVENT
END:VCALENDAR