BEGIN:VCALENDAR
VERSION:2.0
PRODID:-//eventon.com NONSGML v1.0//EN
BEGIN:VEVENT
UID:69e9fcd84fb8d
DTSTAMP:20260423T040456
DTSTART:20260118T183000Z
DTEND:20260119T075000Z
TZID:America/Los_Angeles
LOCATION:
SUMMARY:Second Sunday in Ordinary Time - Sung Mass 10:30 AM
DESCRIPTION: Preacher: Rev. Anthony Jewiss\nhttps://saintceciliacatholiccommunity.org/blog/events/second-sunday-in-ordinary-time-sung-mass-1030-am-3/
URL:https://saintceciliacatholiccommunity.org/blog/events/second-sunday-in-ordinary-time-sung-mass-1030-am-3/
END:VEVENT
END:VCALENDAR