BEGIN:VCALENDAR
VERSION:2.0
PRODID:-//eventon.com NONSGML v1.0//EN
BEGIN:VEVENT
UID:69e8d6c17a3b4
DTSTAMP:20260422T071009
DTSTART:20260125T214500Z
DTEND:20260126T075000Z
TZID:America/Los_Angeles
LOCATION:
SUMMARY:Third Sunday in Ordinary Time - Sung Mass 10:30 AM
DESCRIPTION: Preacher: Deacon Sharon Kay Talley\nhttps://saintceciliacatholiccommunity.org/blog/events/third-sunday-in-ordinary-time-sung-mass-1030-am-3/
URL:https://saintceciliacatholiccommunity.org/blog/events/third-sunday-in-ordinary-time-sung-mass-1030-am-3/
END:VEVENT
END:VCALENDAR