BEGIN:VCALENDAR
VERSION:2.0
PRODID:-//eventon.com NONSGML v1.0//EN
BEGIN:VEVENT
UID:69ea37d10d03d
DTSTAMP:20260423T081633
DTSTART:20230404T191500Z
DTEND:20230405T065000Z
TZID:America/Los_Angeles
LOCATION:
SUMMARY:Tuesday in Holy Week- 12:15 PM
DESCRIPTION: Tuesday in Holy Week- 12:15 PM\nhttps://saintceciliacatholiccommunity.org/blog/events/tuesday-in-holy-week/
URL:https://saintceciliacatholiccommunity.org/blog/events/tuesday-in-holy-week/
END:VEVENT
END:VCALENDAR